BEGIN:VCALENDAR
VERSION:2.0
PRODID:SFPL Web Calendar
BEGIN:VEVENT
UID:150827@sfpl.org
DTSTAMP:20260807T230000Z
DTSTART:20260807T230000Z
DTEND:20260808T000000Z
SUMMARY:Workshop: Bibimbap Remix Pop-Up with June Jo Lee
DESCRIPTION:<p>Prepare and enjoy hot, veggie-forward bibimbap with June Jo Lee, Food Ethnographer and award-winning children's book author, co-author of <a href="https://sfpl.bibliocommons.com/v2/record/S93C3387213"><i>Chef Roy Choi and The Street Food Remix</i></a>, a 2018 Seibert Honor Book. For ages 6 and older. Youth under the age of 8 must be accompanied by an adult. Space limited. Reservations required: (415) 355-5727.</p><p>Connect:<a href="https://www.readerstoeaters.com/our-story"> Eaters to Readers – Website</a>&nbsp;</p><p>Connect: <a href="https://www.wunderland.kitchen/">Wunderland Kitchen – Website</a></p>
LOCATION:Western Addition - Western Addition Back Courtyard
CLASS:PUBLIC
TRANSP:TRANSPARENT
END:VEVENT
BEGIN:VALARM
TRIGGER:-PT1440M
ACTION:DISPLAY
DESCRIPTION:Event Reminder - Workshop: Bibimbap Remix Pop-Up with June Jo Lee
END:VALARM
END:VCALENDAR