BEGIN:VCALENDAR
VERSION:2.0
PRODID:SFPL Web Calendar
BEGIN:VEVENT
UID:150851@sfpl.org
DTSTAMP:20260422T203000Z
DTSTART:20260422T203000Z
DTEND:20260422T213000Z
SUMMARY:Workshop: Make Your Own Paper
DESCRIPTION:<p>Learn about recycling and make your own paper. For children ages 7 and older.</p>
LOCATION:Sunset - Sunset Program Room
CLASS:PUBLIC
TRANSP:TRANSPARENT
END:VEVENT
BEGIN:VALARM
TRIGGER:-PT1440M
ACTION:DISPLAY
DESCRIPTION:Event Reminder - Workshop: Make Your Own Paper
END:VALARM
END:VCALENDAR