BEGIN:VCALENDAR
VERSION:2.0
PRODID:SFPL Web Calendar
BEGIN:VEVENT
UID:150916@sfpl.org
DTSTAMP:20260519T230000Z
DTSTART:20260519T230000Z
DTEND:20260520T003000Z
SUMMARY:Activity: Kimono Iris Folding
DESCRIPTION:<p>Discover the art of iris folding by creating a beautiful kimono design using layered paper strips.</p><p>Space limited. Reservations required: (415) 355-2808 (starting May 5).</p>
LOCATION:Sunset - Sunset Program Room
CLASS:PUBLIC
TRANSP:TRANSPARENT
END:VEVENT
BEGIN:VALARM
TRIGGER:-PT1440M
ACTION:DISPLAY
DESCRIPTION:Event Reminder - Activity: Kimono Iris Folding
END:VALARM
END:VCALENDAR