BEGIN:VCALENDAR
VERSION:2.0
PRODID:SFPL Web Calendar
BEGIN:VEVENT
UID:150985@sfpl.org
DTSTAMP:20260416T233000Z
DTSTART:20260416T233000Z
DTEND:20260417T010000Z
SUMMARY:Film: Skate Dreams
DESCRIPTION:<p><i>Skate Dreams</i> "profiles a diverse group of female skateboarders whose pursuit of self-expression and freedom has created an international movement. In this uplifting and inspiring film, the story spans the trailblazing pioneers of the 1980s and the next generation of Olympic contenders as they defy industry gatekeepers and fight for professional equality. By showcasing the charismatic personalities and indomitable spirits of these amazing talents on and off their skateboards, <i>Skate Dreams</i> shines a bright light on hidden history."&nbsp;</p><p>Directed by Peabody Award-winning filmmaker Jessica Edwards.</p><p>NR, 83 mins., 2023. Closed captions (CC) in English.</p><p><br>&nbsp;</p><p>&nbsp;</p>
LOCATION:Western Addition - Western Addition Meeting Room
CLASS:PUBLIC
TRANSP:TRANSPARENT
END:VEVENT
BEGIN:VALARM
TRIGGER:-PT1440M
ACTION:DISPLAY
DESCRIPTION:Event Reminder - Film: Skate Dreams
END:VALARM
END:VCALENDAR