BEGIN:VCALENDAR
VERSION:2.0
PRODID:SFPL Web Calendar
BEGIN:VEVENT
UID:151014@sfpl.org
DTSTAMP:20260322T200000Z
DTSTART:20260322T200000Z
DTEND:20260322T210000Z
SUMMARY:Author: Mae Coyiuto, Goodbye And Everything After
DESCRIPTION:<p>Manila-based YA author <a href="https://sfpl.bibliocommons.com/v2/search?query=mae%20coyiuto">Mae Coyiuto</a> discusses her new book, <a href="https://sfpl.bibliocommons.com/v2/record/S93C7375790"><i>Goodbye and Everything After</i></a>.</p><p><i>A teen girl comes face to face with her dad's spirit when she ignores a strict Filipino superstition in this contemporary young adult novel that tackles grief, family tension, and first love.</i></p><p>Coyiuto will be in discussion with author <a href="https://sfpl.bibliocommons.com/v2/search?query=Sugiura%2C%20Misa%2C&searchType=author">Misa Sugiura</a>.</p><p><strong>Mae Coyiuto</strong> is a Chinese Filipino writer, born and raised in the Philippines. Mae earned her BA in Psychology from Pomona College and her Master’s Degree in Writing for Young Adults/Children from The New School. Her first book, <a href="https://url.avanan.click/v2/r01/___https://www.penguinrandomhouse.com/books/688793/chloe-and-the-kaishao-boys-by-mae-coyiuto/___.YXAzOnNmZHQyOmE6bzo0YjQzMzY5OWQ0NjJmMThkYWQ3NWI0Zjc0YjA1ZTk4Njo3Ojc1NDI6NTYzOWUzNjg0ODcxNzI0NzczODcyYWI2ODY2NjZhOWYzMGZkY2U5MzBhYTIyM2U1NjY2YWU2ZjQ2ODUzZDkwOTpoOlQ6Tg">Chloe and the Kaishao Boys</a>, was published in 2024. If she’s not writing, she’s usually fangirling over Beyoncé, tennis, Gilmore Girls, or all of the above. She currently lives in Manila.</p><p>Connect: <a href="https://www.maecoyiuto.com/">Mae Coyiuto - Website</a></p>
LOCATION:Main Library - Mix: Lounge - 2nd Fl
CLASS:PUBLIC
TRANSP:TRANSPARENT
END:VEVENT
BEGIN:VALARM
TRIGGER:-PT1440M
ACTION:DISPLAY
DESCRIPTION:Event Reminder - Author: Mae Coyiuto, Goodbye And Everything After
END:VALARM
END:VCALENDAR