BEGIN:VCALENDAR
VERSION:2.0
PRODID:SFPL Web Calendar
BEGIN:VEVENT
UID:151121@sfpl.org
DTSTAMP:20260405T210000Z
DTSTART:20260405T210000Z
DTEND:20260405T223000Z
SUMMARY:Presentation: Chutney Demonstration with Shanta
DESCRIPTION:<p>Shanta Nimbark Sacharoff, a local author of three cookbooks, will discuss the importance of sharing food to build community. Sacharoff will demonstrate how to make two kinds of chutneys - an Indian condiment that is important in the cuisine of India. Q&A will follow with free samples of chutney and chai made by Shanta.</p><p>Space limited. Reservations required: (415) 355-5700 or visit Ortega to reserve a spot.&nbsp;</p>
LOCATION:Ortega - Ortega Meeting Room
CLASS:PUBLIC
TRANSP:TRANSPARENT
END:VEVENT
BEGIN:VALARM
TRIGGER:-PT1440M
ACTION:DISPLAY
DESCRIPTION:Event Reminder - Presentation: Chutney Demonstration with Shanta
END:VALARM
END:VCALENDAR