BEGIN:VCALENDAR
VERSION:2.0
PRODID:SFPL Web Calendar
BEGIN:VEVENT
UID:151184@sfpl.org
DTSTAMP:20260417T224500Z
DTSTART:20260417T224500Z
DTEND:20260417T234500Z
SUMMARY:Activity: Button Bracelet
DESCRIPTION:<p>Reuse and upcycle old buttons to make bracelets of your own design.&nbsp;For ages 6-12. Space limited. Reservations required: (415) 355-2889.</p>
LOCATION:Chinatown/Him Mark Lai - Chinatown Meeting Room
CLASS:PUBLIC
TRANSP:TRANSPARENT
END:VEVENT
BEGIN:VALARM
TRIGGER:-PT1440M
ACTION:DISPLAY
DESCRIPTION:Event Reminder - Activity: Button Bracelet
END:VALARM
END:VCALENDAR