BEGIN:VCALENDAR
VERSION:2.0
PRODID:SFPL Web Calendar
BEGIN:VEVENT
UID:151277@sfpl.org
DTSTAMP:20260325T230000Z
DTSTART:20260325T230000Z
DTEND:20260326T000000Z
SUMMARY:Social: Crochet Circle
DESCRIPTION:<p>Learn and practice basic&nbsp;crocheting techniques in a supportive environment. Participants can use the materials provided or bring their own&nbsp;crochet&nbsp;project.</p><p>Materials provided by Museum of Craft & Design (MCD), in celebration of MCD's former exhibit, Rug Life<i>.</i></p><p>Connect: <a href="https://sfmcd.org/">MCD – Website</a>&nbsp;I <a href="https://www.instagram.com/museumofcraftanddesign/">MCD – Instagram</a>&nbsp;I <a href="https://www.facebook.com/MuseumofCraftandDesign">MCD – Facebook</a></p>
LOCATION:Ingleside - Ingleside Meeting Room
CLASS:PUBLIC
TRANSP:TRANSPARENT
END:VEVENT
BEGIN:VALARM
TRIGGER:-PT1440M
ACTION:DISPLAY
DESCRIPTION:Event Reminder - Social: Crochet Circle
END:VALARM
END:VCALENDAR