BEGIN:VCALENDAR
VERSION:2.0
PRODID:SFPL Web Calendar
BEGIN:VEVENT
UID:151296@sfpl.org
DTSTAMP:20260618T200000Z
DTSTART:20260618T200000Z
DTEND:20260618T213000Z
SUMMARY:Activity: Mission Science Workshop Tinkering Truck
DESCRIPTION:<p>Tinker, build, create and innovate with Mission Science Workshop's Tinkering Truck, providing fun activities and exhibits on wheels! Join Mission Science Workshop inside the library for hands-on tinkering and exploring and then explore their Tinkering Truck holding traveling exhibits, live animals and more. For children ages 6 and older. Space limited. Reservations required: (415) 355-2868.&nbsp;</p><p>Connect: <a href="http://www.missionscienceworkshop.org/">Mission Science Workshop - Website</a></p>
LOCATION:Excelsior - Excelsior Meeting Room
CLASS:PUBLIC
TRANSP:TRANSPARENT
END:VEVENT
BEGIN:VALARM
TRIGGER:-PT1440M
ACTION:DISPLAY
DESCRIPTION:Event Reminder - Activity: Mission Science Workshop Tinkering Truck
END:VALARM
END:VCALENDAR