BEGIN:VCALENDAR
VERSION:2.0
PRODID:SFPL Web Calendar
BEGIN:VEVENT
UID:151485@sfpl.org
DTSTAMP:20260517T210000Z
DTSTART:20260517T210000Z
DTEND:20260517T223000Z
SUMMARY:Activity: Crafternoon Explores Embroidery
DESCRIPTION:<p>Practice mending or embellishing clothing with other crafters. Bring your own materials or use library supplies, including a sewing machine. Sew on a button, patch a sock hole, exchange tips and advice with other menders.</p><p>This month: learn a few basic embroidery stitches to embellish your garments.</p><p>Space limited. Seats available first come, first served. Ages 18 and up.</p>
LOCATION:Excelsior - Excelsior Meeting Room
CLASS:PUBLIC
TRANSP:TRANSPARENT
END:VEVENT
BEGIN:VALARM
TRIGGER:-PT1440M
ACTION:DISPLAY
DESCRIPTION:Event Reminder - Activity: Crafternoon Explores Embroidery
END:VALARM
END:VCALENDAR