BEGIN:VCALENDAR
VERSION:2.0
PRODID:SFPL Web Calendar
BEGIN:VEVENT
UID:151517@sfpl.org
DTSTAMP:20260506T220000Z
DTSTART:20260506T220000Z
DTEND:20260506T231500Z
SUMMARY:Presentation: The Writing Life with Mary-Rose Hayes
DESCRIPTION:<p>Discover how the simplest creative act — putting pen to paper — can transform your life. In this inspiring talk, Mary-Rose Hayes reveals how writing can be done anywhere, offers a powerful way to communicate honestly with your children about your past, and serves as deeply personal therapy by transferring painful experiences onto fictional characters — sometimes even turning those worst moments into profit. Mary-Rose will explore how writing relieves boredom in even the most isolating circumstances, introduces you to fascinating people through research, may offer surprising tax advantages if you publish, and can even become a powerful tool for survival — proving that your hardest experiences might just be your most valuable stories.&nbsp;</p><p><a href="https://sfpl.bibliocommons.com/v2/search?custom_edit=false&query=contributor%3A(hayes%2C%20mary-rose)%20%20%20audience%3A%22adult%22%20formatcode%3A(BK%20OR%20EBOOK%20OR%20LPRINT%20)&searchType=bl&suppress=true">Mary-Rose Hayes</a> has published nine novels including <i>Amethyst</i>, a TIME/LIFE best seller, and two political thrillers co-authored with Senator Barbara Boxer. She has worked as a screen writer and fiction editor; taught creative writing at U.C. Berkeley and Arizona State University and led workshops at international writers' conferences in the U.S., U.K., Mexico and Tuscany, Italy.</p><p>This event is in partnership with NEXT Village,&nbsp;a neighborhood nonprofit providing services and support that empower members to live independently in their own homes as they age.</p><p>Connect: <a href="https://url.avanan.click/v2/___https://nextvillagesf.org/___.YXAzOnNmZHQyOmE6bzo0MzI5MDI1YzY1ZjE1ZDZmMTQ1NDUzMzkxMzExMjM2MTo2OmQzYjE6MWJhNjg3YmE1N2RlNDliYjRkMzE4NzI5NmVjNTNlZmE1YjViNzc1MTFmNGM3OGQ1NmZiODJkZjQ5YzhhOGZlNjpoOlQ">NEXT Village SF</a></p><p>Space limited. Seats available first come, first served.</p>
LOCATION:Golden Gate Valley - Golden Gate Valley Meeting Room
CLASS:PUBLIC
TRANSP:TRANSPARENT
END:VEVENT
BEGIN:VALARM
TRIGGER:-PT1440M
ACTION:DISPLAY
DESCRIPTION:Event Reminder - Presentation: The Writing Life with Mary-Rose Hayes
END:VALARM
END:VCALENDAR