BEGIN:VCALENDAR
VERSION:2.0
PRODID:SFPL Web Calendar
BEGIN:VEVENT
UID:151644@sfpl.org
DTSTAMP:20260819T230000Z
DTSTART:20260819T230000Z
DTEND:20260820T000000Z
SUMMARY:Workshop: Slime Time
DESCRIPTION:<p>Flex your inner chemist skills and mix household ingredients to make slime. For children and their caregivers.&nbsp;</p>
LOCATION:Excelsior - Excelsior Meeting Room
CLASS:PUBLIC
TRANSP:TRANSPARENT
END:VEVENT
BEGIN:VALARM
TRIGGER:-PT1440M
ACTION:DISPLAY
DESCRIPTION:Event Reminder - Workshop: Slime Time
END:VALARM
END:VCALENDAR