BEGIN:VCALENDAR
VERSION:2.0
PRODID:SFPL Web Calendar
BEGIN:VEVENT
UID:151821@sfpl.org
DTSTAMP:20260506T230000Z
DTSTART:20260506T230000Z
DTEND:20260507T000000Z
SUMMARY:Workshop: Weave Yourself Into Your Story with Cristina Edwards
DESCRIPTION:<p>Make a&nbsp;bookmark, wall hanging or patch with local textile artist Cristina Edwards while learning about weaving throughout the world. Learn the embodied practice of creating fabric by hand. Participants will receive a small loom and supplies to take home and continue weaving at home. For ages 10 and older.&nbsp;</p><p>Reservations required: (415) 355-5707.</p><p>Connect:</p><p><a href="https://cristinaedwards.com/cristina-edwards">Cristina Edwards - Website</a>&nbsp;| <a href="https://www.instagram.com/still____waters/">Cristina Edwards - Instagram</a>&nbsp;|</p><p><br>&nbsp;</p>
LOCATION:Noe Valley/Sally Brunn - Noe Valley Meeting Room
CLASS:PUBLIC
TRANSP:TRANSPARENT
END:VEVENT
BEGIN:VALARM
TRIGGER:-PT1440M
ACTION:DISPLAY
DESCRIPTION:Event Reminder - Workshop: Weave Yourself Into Your Story with Cristina Edwards
END:VALARM
END:VCALENDAR