BEGIN:VCALENDAR
VERSION:2.0
PRODID:SFPL Web Calendar
BEGIN:VEVENT
UID:151866@sfpl.org
DTSTAMP:20260530T210000Z
DTSTART:20260530T210000Z
DTEND:20260530T223000Z
SUMMARY:Postponed: Workshop: The Book, Reimagined in Folded Paper 
DESCRIPTION:<p><i><strong>This program has been postponed to Friday, June 5, 3 p.m.. Thank you for your interest in our programs.</strong></i></p><p>This workshop introduces the techniques for creating origami-style accordion fold pop‑up pages using boxes as lids. All materials are provided, and participants can explore simple paper‑folding methods in a relaxed, creative setting. Space limited. Reservations required: (415) 355-2880 (starting May 5).</p><p><br>&nbsp;</p>
LOCATION:Presidio - Presidio Meeting Room
CLASS:PUBLIC
TRANSP:TRANSPARENT
END:VEVENT
BEGIN:VALARM
TRIGGER:-PT1440M
ACTION:DISPLAY
DESCRIPTION:Event Reminder - Postponed: Workshop: The Book, Reimagined in Folded Paper 
END:VALARM
END:VCALENDAR