BEGIN:VCALENDAR
VERSION:2.0
PRODID:SFPL Web Calendar
BEGIN:VEVENT
UID:151950@sfpl.org
DTSTAMP:20260422T230000Z
DTSTART:20260422T230000Z
DTEND:20260423T000000Z
SUMMARY:Activity: Finger Knitting Fun
DESCRIPTION:<p>Practice the art of finger knitting! &nbsp;All experience levels are welcome. For ages 6 and older.</p>
LOCATION:Ingleside - Ingleside Meeting Room
CLASS:PUBLIC
TRANSP:TRANSPARENT
END:VEVENT
BEGIN:VALARM
TRIGGER:-PT1440M
ACTION:DISPLAY
DESCRIPTION:Event Reminder - Activity: Finger Knitting Fun
END:VALARM
END:VCALENDAR