BEGIN:VCALENDAR
VERSION:2.0
PRODID:SFPL Web Calendar
BEGIN:VEVENT
UID:152038@sfpl.org
DTSTAMP:20260606T213000Z
DTSTART:20260606T213000Z
DTEND:20260606T230000Z
SUMMARY:Activity: Temporary Tattoos
DESCRIPTION:<p>Create temporary tattoos using stencils and body markers. For children ages 5 and older.</p>
LOCATION:Marina - Marina Back Courtyard
CLASS:PUBLIC
TRANSP:TRANSPARENT
END:VEVENT
BEGIN:VALARM
TRIGGER:-PT1440M
ACTION:DISPLAY
DESCRIPTION:Event Reminder - Activity: Temporary Tattoos
END:VALARM
END:VCALENDAR