BEGIN:VCALENDAR
VERSION:2.0
PRODID:SFPL Web Calendar
BEGIN:VEVENT
UID:152156@sfpl.org
DTSTAMP:20260527T230000Z
DTSTART:20260527T230000Z
DTEND:20260528T003000Z
SUMMARY:Workshop: Sashiko Embroidery
DESCRIPTION:<p>In this workshop mixed media artist, author, and educator Lisa Solomon will demonstrate how to give your clothes a new life and extend their use using the Sashiko embroidery technique. Sashiko - which translates to little stabs - is an embroidery technique developed in the Edo period in Japan. It became not only a decorative practice, but one that was used to mend and repair clothing. &nbsp;The class will provide a quick overview of supplies and techniques - including interior and exterior patchwork as well as ways to incorporate traditional Sashiko patterning from simple to more complicated designs. Participants will also be encouraged to reflect their own personalities in the way they mend. Bring a garment that needs to be fixed! There will also be materials to practice with. This class will offer a great way to think about sustainability, slow fashion and working with your hands in a meaningful and creative way.</p><p>Space limited. Reservations required; reservations open May 6th: (415) 355-5770, email psimgr@sfpl.org or sign-up at the reference desk.&nbsp;</p>
LOCATION:Parkside - Parkside General Floor Area
CLASS:PUBLIC
TRANSP:TRANSPARENT
END:VEVENT
BEGIN:VALARM
TRIGGER:-PT1440M
ACTION:DISPLAY
DESCRIPTION:Event Reminder - Workshop: Sashiko Embroidery
END:VALARM
END:VCALENDAR