BEGIN:VCALENDAR
VERSION:2.0
PRODID:SFPL Web Calendar
BEGIN:VEVENT
UID:152168@sfpl.org
DTSTAMP:20260523T200000Z
DTSTART:20260523T200000Z
DTEND:20260523T210000Z
SUMMARY:Activity: Fiber Arts Craft Circle
DESCRIPTION:<p>Create by crocheting, finger knitting or DIY loom knitting. Materials will be provided, though supplies are limited. &nbsp;Instruction is provided.</p>
LOCATION:Ingleside - Ingleside Meeting Room
CLASS:PUBLIC
TRANSP:TRANSPARENT
END:VEVENT
BEGIN:VALARM
TRIGGER:-PT1440M
ACTION:DISPLAY
DESCRIPTION:Event Reminder - Activity: Fiber Arts Craft Circle
END:VALARM
END:VCALENDAR