BEGIN:VCALENDAR
VERSION:2.0
PRODID:SFPL Web Calendar
BEGIN:VEVENT
UID:152182@sfpl.org
DTSTAMP:20260731T220000Z
DTSTART:20260731T220000Z
DTEND:20260731T230000Z
SUMMARY:Celebration: Summerween
DESCRIPTION:<p>Celebrate Halloween in July. Come in costume, listen to spooky stories, and dance like zombies on the patio (with bubbles!) Watermelon will be served. For children and their caregivers.</p>
LOCATION:Eureka Valley/Harvey Milk Memorial - Eureka Valley Back Courtyard
CLASS:PUBLIC
TRANSP:TRANSPARENT
END:VEVENT
BEGIN:VALARM
TRIGGER:-PT1440M
ACTION:DISPLAY
DESCRIPTION:Event Reminder - Celebration: Summerween
END:VALARM
END:VCALENDAR