BEGIN:VCALENDAR
VERSION:2.0
PRODID:SFPL Web Calendar
BEGIN:VEVENT
UID:152211@sfpl.org
DTSTAMP:20260805T220000Z
DTSTART:20260805T220000Z
DTEND:20260805T230000Z
SUMMARY:Activity: Paper Airplanes
DESCRIPTION:<p>Make and fly paper airplanes with rubber-band launchers.</p>
LOCATION:Eureka Valley/Harvey Milk Memorial - Eureka Valley Children's Area
CLASS:PUBLIC
TRANSP:TRANSPARENT
END:VEVENT
BEGIN:VALARM
TRIGGER:-PT1440M
ACTION:DISPLAY
DESCRIPTION:Event Reminder - Activity: Paper Airplanes
END:VALARM
END:VCALENDAR