BEGIN:VCALENDAR
VERSION:2.0
PRODID:SFPL Web Calendar
BEGIN:VEVENT
UID:152237@sfpl.org
DTSTAMP:20260509T210000Z
DTSTART:20260509T210000Z
DTEND:20260509T230000Z
SUMMARY:Workshop: DIY Bath Salts for Mother's Day
DESCRIPTION:<p>Make bath salts with essential oils and personalize jars to store them in. Create a special gift that you can enjoy yourself or present to someone you love on Mother's Day.&nbsp;</p><p>Space limited. Reservations required: (415) 355-5638 (starting April 25).</p>
LOCATION:Richmond/Senator Milton Marks - Richmond Meeting Room
CLASS:PUBLIC
TRANSP:TRANSPARENT
END:VEVENT
BEGIN:VALARM
TRIGGER:-PT1440M
ACTION:DISPLAY
DESCRIPTION:Event Reminder - Workshop: DIY Bath Salts for Mother's Day
END:VALARM
END:VCALENDAR