BEGIN:VCALENDAR
VERSION:2.0
PRODID:SFPL Web Calendar
BEGIN:VEVENT
UID:152300@sfpl.org
DTSTAMP:20260505T200000Z
DTSTART:20260505T200000Z
DTEND:20260505T220000Z
SUMMARY:Book Club: Check 'em Out
DESCRIPTION:<p>Pick up a copy of May's title <a href="https://sfpl.bibliocommons.com/v2/record/S93C2534451">Where'd You Go, Bernadette</a> by Maria Semple at the Glen Park Library reference desk.&nbsp;</p><p>Check 'em Out Book Club meets the 1st and 3rd Tuesdays of the month.</p>
LOCATION:Glen Park - Glen Park Meeting Room
CLASS:PUBLIC
TRANSP:TRANSPARENT
END:VEVENT
BEGIN:VALARM
TRIGGER:-PT1440M
ACTION:DISPLAY
DESCRIPTION:Event Reminder - Book Club: Check 'em Out
END:VALARM
END:VCALENDAR