BEGIN:VCALENDAR
VERSION:2.0
PRODID:SFPL Web Calendar
BEGIN:VEVENT
UID:152409@sfpl.org
DTSTAMP:20260515T220000Z
DTSTART:20260515T220000Z
DTEND:20260515T230000Z
SUMMARY:Book Club: Short Stack Book Club
DESCRIPTION:<p>The Short Stack Book Club will meet the third Friday of the month to discuss short novels. This month’s selection is <a href="https://sfpl.bibliocommons.com/v2/record/S93C5140151"><i>Sea of Tranquility</i></a> by Emily St. John Mandel. Sea of Tranquility is a novel of art, time, love, and plague that takes the reader from an island off Vancouver in 1912 to a dark colony of the moon three hundred years later, unfurling a story of humanity across centuries and planets.&nbsp;</p><p>Copies will be held at the circulation desk for check out. Drop-ins are welcomed.</p>
LOCATION:Noe Valley/Sally Brunn - Noe Valley Meeting Room
CLASS:PUBLIC
TRANSP:TRANSPARENT
END:VEVENT
BEGIN:VALARM
TRIGGER:-PT1440M
ACTION:DISPLAY
DESCRIPTION:Event Reminder - Book Club: Short Stack Book Club
END:VALARM
END:VCALENDAR