BEGIN:VCALENDAR
VERSION:2.0
PRODID:SFPL Web Calendar
BEGIN:VEVENT
UID:152418@sfpl.org
DTSTAMP:20260531T210000Z
DTSTART:20260531T210000Z
DTEND:20260531T220000Z
SUMMARY:Workshop: Seed Balls
DESCRIPTION:<p>Squish soil, clay and wildflower seeds together to make&nbsp;your own pollinator-friendly seed balls. For children ages 4 and older.&nbsp;</p>
LOCATION:Golden Gate Valley - Golden Gate Valley Meeting Room
CLASS:PUBLIC
TRANSP:TRANSPARENT
END:VEVENT
BEGIN:VALARM
TRIGGER:-PT1440M
ACTION:DISPLAY
DESCRIPTION:Event Reminder - Workshop: Seed Balls
END:VALARM
END:VCALENDAR