BEGIN:VCALENDAR
VERSION:2.0
PRODID:SFPL Web Calendar
BEGIN:VEVENT
UID:152425@sfpl.org
DTSTAMP:20260521T210000Z
DTSTART:20260521T210000Z
DTEND:20260521T223000Z
SUMMARY:Tutorial: Google Gemini Basics / Google Gemini簡介
DESCRIPTION:<p>Learn the basic features of Google Gemini. Instruction in Chinese. Space limited. Reservations required: (415) 355-2888.</p><p>瞭解Google Gemini的基本功能與使用。中文講解。報名請電(415) 355-2888。</p>
LOCATION:Chinatown/Him Mark Lai - Chinatown Meeting Room
CLASS:PUBLIC
TRANSP:TRANSPARENT
END:VEVENT
BEGIN:VALARM
TRIGGER:-PT1440M
ACTION:DISPLAY
DESCRIPTION:Event Reminder - Tutorial: Google Gemini Basics / Google Gemini簡介
END:VALARM
END:VCALENDAR