BEGIN:VCALENDAR
VERSION:2.0
PRODID:SFPL Web Calendar
BEGIN:VEVENT
UID:152637@sfpl.org
DTSTAMP:20260509T220000Z
DTSTART:20260509T220000Z
DTEND:20260509T233000Z
SUMMARY:Workshop: Pediatric CPR
DESCRIPTION:<p>Learn how to perform CPR on an infant or child, as well as what to do when they are choking and how to control bleeding from a certified Red Cross trainer. Space limited. Reservations required: (415) 355-2823.</p>
LOCATION:Marina - Marina Back Courtyard
CLASS:PUBLIC
TRANSP:TRANSPARENT
END:VEVENT
BEGIN:VALARM
TRIGGER:-PT1440M
ACTION:DISPLAY
DESCRIPTION:Event Reminder - Workshop: Pediatric CPR
END:VALARM
END:VCALENDAR