BEGIN:VCALENDAR
VERSION:2.0
PRODID:SFPL Web Calendar
BEGIN:VEVENT
UID:152662@sfpl.org
DTSTAMP:20260503T210000Z
DTSTART:20260503T210000Z
DTEND:20260503T220000Z
SUMMARY:Author: Drawing Session and Read Aloud with Bo Lu
DESCRIPTION:<p>Listen to a read aloud of Bo Lu's latest children's picture story book, <a href="https://sfpl.bibliocommons.com/v2/record/S93C7382788"><i>Ren's Pencil</i></a>, and participate in an art session. Lu received the 2025 Ezra Jack Keats Illustrator Honor Award for her work on <a href="https://sfpl.bibliocommons.com/v2/record/S93C6276264"><i>Bao's Doll</i></a>.&nbsp;For children and their caregivers.&nbsp;</p><p>Connect: <a href="https://bolu.studio/homepage">Bo Lu – Website</a>&nbsp;| <a href="https://www.instagram.com/bowru/">Bo Lu – Instagram</a></p>
LOCATION:Mission Bay - Mission Bay Program Room
CLASS:PUBLIC
TRANSP:TRANSPARENT
END:VEVENT
BEGIN:VALARM
TRIGGER:-PT1440M
ACTION:DISPLAY
DESCRIPTION:Event Reminder - Author: Drawing Session and Read Aloud with Bo Lu
END:VALARM
END:VCALENDAR