BEGIN:VCALENDAR
VERSION:2.0
PRODID:SFPL Web Calendar
BEGIN:VEVENT
UID:152712@sfpl.org
DTSTAMP:20260521T010000Z
DTSTART:20260521T010000Z
DTEND:20260521T020000Z
SUMMARY:Workshop: Chinese Calligraphy Palm Fan Craft
DESCRIPTION:<p>Join this interactive workshop and introduce yourself to the cultural traditions of the Dragon Boat Festival (端午節) through Chinese calligraphy and hands-on crafts. Participants will learn the meaning of the festival and its connections to health, protection, and well-being while practicing basic Chinese brush techniques. Each participant will create a finished keepsake: a decorated palm fan featuring the character “安康” (health and well-being), combined with a peach wood bell and a fragrant sachet, assembled into a festive Dragon Boat Festival hanging ornament.</p><p>Space limited. Reservations required: (415) 355-2858.</p>
LOCATION:Glen Park - Glen Park Meeting Room
CLASS:PUBLIC
TRANSP:TRANSPARENT
END:VEVENT
BEGIN:VALARM
TRIGGER:-PT1440M
ACTION:DISPLAY
DESCRIPTION:Event Reminder - Workshop: Chinese Calligraphy Palm Fan Craft
END:VALARM
END:VCALENDAR