BEGIN:VCALENDAR
VERSION:2.0
PRODID:SFPL Web Calendar
BEGIN:VEVENT
UID:152754@sfpl.org
DTSTAMP:20260516T180000Z
DTSTART:20260516T180000Z
DTEND:20260516T200000Z
SUMMARY:Workshop: Clothing Repair Fix-it Clinic
DESCRIPTION:<p>Extend the life of your clothes—at no cost!</p><p>Clothing Repair Clinic hosted by SCRAP, with support from San Francisco Environment. &nbsp;Bring one clothing item in need of repair and our skilled SCRAP repair coaches will mend it for you while you learn about the repair process.</p><p>Please note:</p><p>Limit one clothing item per person.&nbsp;<br>Repairs only—no alterations or complex fixes.&nbsp;<br>Services are offered on a first-come, first-served basis.&nbsp;<br>&nbsp;</p><p>Whether it’s a torn seam or a missing button, we’re here to help you extend the life of your garments and reduce textile waste.</p><p>Questions? Contact SCRAP via email or call. &nbsp;</p><p>This program is a collaboration between <a href="https://www.sfenvironment.org/repair-events-and-clinics">San Francisco Environment</a>, San Francisco Public Library, and <a href="https://www.scrap-sf.org/">SCRAP</a> promoting sustainability through textile repair and reuse.&nbsp;</p>
LOCATION:Parkside - Parkside Back Courtyard
CLASS:PUBLIC
TRANSP:TRANSPARENT
END:VEVENT
BEGIN:VALARM
TRIGGER:-PT1440M
ACTION:DISPLAY
DESCRIPTION:Event Reminder - Workshop: Clothing Repair Fix-it Clinic
END:VALARM
END:VCALENDAR