BEGIN:VCALENDAR
VERSION:2.0
PRODID:SFPL Web Calendar
BEGIN:VEVENT
UID:152772@sfpl.org
DTSTAMP:20260508T003000Z
DTSTART:20260508T003000Z
DTEND:20260508T023000Z
SUMMARY:Workshop: Protecting Your Creativity  While Running a Small Business
DESCRIPTION:<p>Creativity coach Felicia Forte offers an informal group coaching session on maintaining creativity while running your own creative small business. Chocolate and beverages will be served.</p><p>Felicia attended the Art Students League of New York in 2006, moving next to San Francisco, Ca where she began her career as a fine artist and private instructor of painting. She has exhibited in shows internationally including The BP Portrait Award for which she was awarded second prize. She has been featured in podcasts and publications including The Huffington Post, Dazed Magazine and Artists & Illustrators Magazine UK. Felicia is a highly sought after teacher who has collaborated with museums, schools and workshops all over the globe. She currently maintains a studio practice in San Francisco, CA, holding classes in painting technique and offering coaching online to private students.</p><p><a href="https://www.feliciaforte.com/">Felicia Forte | Website</a> | <a href="https://www.instagram.com/feliciaforte/">Felicia Forte | Instagram</a> | <a href="https://www.youtube.com/channel/UCvj_aVxebfGptJYYxR_yRdA">Felicia Forte | YouTube</a> | <a href="https://www.tiktok.com/@feliciaforteart">Felicia Forte | TikTok</a></p>
LOCATION:Main Library - Steve Silver Music Center - 4th Fl
CLASS:PUBLIC
TRANSP:TRANSPARENT
END:VEVENT
BEGIN:VALARM
TRIGGER:-PT1440M
ACTION:DISPLAY
DESCRIPTION:Event Reminder - Workshop: Protecting Your Creativity  While Running a Small Business
END:VALARM
END:VCALENDAR