BEGIN:VCALENDAR
VERSION:2.0
PRODID:SFPL Web Calendar
BEGIN:VEVENT
UID:152783@sfpl.org
DTSTAMP:20260527T003000Z
DTSTART:20260527T003000Z
DTEND:20260527T013000Z
SUMMARY:Author: Ma Tianjie, In Search of Green China
DESCRIPTION:<p>Learn about China's 30-year struggle to clean up its environment and reduce its carbon footprint from Ma Tianjie, author of<a href="https://sfpl.bibliocommons.com/v2/record/S93C7260792">&nbsp;<i>In Search of Green China</i></a><i>.&nbsp;</i>His presentation will discuss decades of evolving environmental ideas in China, looking both at Government actions, and civil society advocacy.</p><p>Ma Tianjie is an environmental&nbsp;writer based in Beijing. He was formerly Director of China Dialogue, Beijing, and Greenpeace's Program Director for Mainland China. He'll be representing his own views in this program.</p>
LOCATION:Virtual Library
CLASS:PUBLIC
TRANSP:TRANSPARENT
END:VEVENT
BEGIN:VALARM
TRIGGER:-PT1440M
ACTION:DISPLAY
DESCRIPTION:Event Reminder - Author: Ma Tianjie, In Search of Green China
END:VALARM
END:VCALENDAR