BEGIN:VCALENDAR
VERSION:2.0
PRODID:SFPL Web Calendar
BEGIN:VEVENT
UID:152805@sfpl.org
DTSTAMP:20260511T223000Z
DTSTART:20260511T223000Z
DTEND:20260512T000000Z
SUMMARY:Film: Rabbit in the Moon
DESCRIPTION:<p>Watch the documentary film, <a href="https://sfpl.bibliocommons.com/v2/record/S93C3494079"><i><strong>Rabbit in the Moon</strong></i></a>, written and directed by Emiko Omori and produced by her sister Chizuko on Japanese Americans in American concentration camps during World War II that highlights resistance and other lesser told stories.</p><p>NR, 87 mins., 1999.&nbsp;</p><p>Emmy award-winning filmmaker <strong>Emiko Omori</strong> is a longtime Bay Area resident and a San Francisco State University School of Cinema alumna. She was the first female Asian American cinematographer at KQED, and her most celebrated work, Rabbit in the Moon, explores the Japanese American incarceration experience. She also directed Tattoo City, a documentary on tattoo artist Ed Hardy, among many other films.</p><hr><p>Stretching from&nbsp;California’s southern border&nbsp;to&nbsp;northmost tip of&nbsp;Washington state,<strong>&nbsp;</strong><a href="https://sfpl.org/one-book-one-coast"><strong>One Book,&nbsp;One Coast</strong></a><strong>&nbsp;</strong>is a&nbsp;brand-new,&nbsp;multi-state community reading initiative that&nbsp;brings readers together around a shared book, sparking conversation,&nbsp;programs&nbsp;and reflection across the West Coast.</p><p>Our inaugural selection is<strong> </strong><a href="https://sfpl.bibliocommons.com/v2/record/S93C3847249"><i><strong>They Called Us Enemy</strong></i></a><strong> (2019), </strong>a graphic memoir by George Takei that recounts his childhood experience of incarceration alongside more than 120,000 people of Japanese descent, most of whom were U.S. citizens, following Executive Order 9066 in 1942.&nbsp;</p><p>Read along March–May 2026 and join the programs and discussions it inspires</p>
LOCATION:Main Library - Chinese Center Exhibit Space - 3rd Fl
CLASS:PUBLIC
TRANSP:TRANSPARENT
END:VEVENT
BEGIN:VALARM
TRIGGER:-PT1440M
ACTION:DISPLAY
DESCRIPTION:Event Reminder - Film: Rabbit in the Moon
END:VALARM
END:VCALENDAR