BEGIN:VCALENDAR
VERSION:2.0
PRODID:SFPL Web Calendar
BEGIN:VEVENT
UID:152819@sfpl.org
DTSTAMP:20260516T210000Z
DTSTART:20260516T210000Z
DTEND:20260516T220000Z
SUMMARY:Presentation: How Sneaker Culture Continues to Fuel Our Economy
DESCRIPTION:<p>Listen to a lively, interactive conversation with the founders of the Sneaker Museum Oakland as they explore Hip‑Hop’s powerful influence on the multibillion‑dollar sneaker industry. The discussion will delve into the booming resale market and examine the impact of collaborations between Black artists and major corporations such as Nike, Converse, Adidas, New Balance, and Asics.</p><p>In addition to the conversation, the founders will showcase selections from their collection, including books, sneakers, and clothing collaborations from influential Hip‑Hop artists and designers such as Virgil Abloh and Travis Scott.</p><p>A brief Q&A will follow the presentation.</p><p>Damon Sudds is a Bay Area native and the co‑founder of the Sneaker Museum Oakland. His passion for sneakers began in 1989 with the release of the Air Jordan 4 “White Cement” and the drop of the African cut Girbuad. What started as an interest grew into full‑fledged collecting by 1998, and he eventually gave away his first collection in 2006. Damon began collecting again in 2010 and is now well known as the “$50 sneaker buyer.</p><p>Danielle Roundtree is an Oakland native and the co-founder of Sneaker Museum Oakland. She began collecting sneakers in the mid‑90s after discovering <i>Slam</i> Magazine, a basketball publication that blends sports coverage with hip-hop culture and has long influenced the sneaker industry. Her passion grew further when she found a popular online sneaker forum called Greg’s Nike World</p><p>&nbsp;</p><p>&nbsp;</p><p>Connect: <a href="https://www.sneakermuseumoakland.org/">Sneaker Museum Oakland - Website</a> | <a href="https://www.facebook.com/SneakerMuseumOak/">Sneaker Museum Oakland - Facebook</a></p><p><a href="https://sfpl.org/exhibits/2026/01/16/weve-got-sole">We've Got Sole</a></p>
LOCATION:Main Library - African American Center - 3rd Fl
CLASS:PUBLIC
TRANSP:TRANSPARENT
END:VEVENT
BEGIN:VALARM
TRIGGER:-PT1440M
ACTION:DISPLAY
DESCRIPTION:Event Reminder - Presentation: How Sneaker Culture Continues to Fuel Our Economy
END:VALARM
END:VCALENDAR