BEGIN:VCALENDAR
VERSION:2.0
PRODID:SFPL Web Calendar
BEGIN:VEVENT
UID:152884@sfpl.org
DTSTAMP:20260505T210000Z
DTSTART:20260505T210000Z
DTEND:20260505T230000Z
SUMMARY:Early Learning: Big San Francisco Play Date
DESCRIPTION:<p>Play, learn and explore with blocks, Big Builders, Magna-Tiles and more. For ages 5 and younger with their families.&nbsp;</p><p>Big San Francisco Play Date provides families with young children the opportunity to engage in accessible activities that promote growth and exploration in a safe and welcoming environment. Geared for children aged 0–5, we welcome caregivers and older siblings to play along with them. Big Play Date encourages side-by-side play, choice, turn-taking, and making new friends while providing their grown-ups an opportunity to learn about the importance of play.&nbsp;&nbsp;</p>
LOCATION:Mission Bay - Mission Bay Program Room
CLASS:PUBLIC
TRANSP:TRANSPARENT
END:VEVENT
BEGIN:VALARM
TRIGGER:-PT1440M
ACTION:DISPLAY
DESCRIPTION:Event Reminder - Early Learning: Big San Francisco Play Date
END:VALARM
END:VCALENDAR