BEGIN:VCALENDAR
VERSION:2.0
PRODID:SFPL Web Calendar
BEGIN:VEVENT
UID:152887@sfpl.org
DTSTAMP:20260508T220000Z
DTSTART:20260508T220000Z
DTEND:20260508T230000Z
SUMMARY:Workshop: Shabbat Storytime and Challah Kneading
DESCRIPTION:<p>In celebration of Jewish American Heritage Month, guest storyteller Chaya Potash of Cole Valley Gan Preschool will lead a reading of Shabbat themed books. After the book reading, Chaya will lead a hands-on workshop where participants can braid their own challah loaf (a specially braided bread traditionally eaten on Shabbat) to take home and bake.</p><p>For children ages 8 and up and their caregivers. Space limited. Reservations required: please call (415) 355-5656 or email <a href="mailto:parevent@sfpl.org">parevent@sfpl.org</a> to sign up (starting April 8).&nbsp;</p>
LOCATION:Park - Park Meeting Room
CLASS:PUBLIC
TRANSP:TRANSPARENT
END:VEVENT
BEGIN:VALARM
TRIGGER:-PT1440M
ACTION:DISPLAY
DESCRIPTION:Event Reminder - Workshop: Shabbat Storytime and Challah Kneading
END:VALARM
END:VCALENDAR