BEGIN:VCALENDAR
VERSION:2.0
PRODID:SFPL Web Calendar
BEGIN:VEVENT
UID:152896@sfpl.org
DTSTAMP:20260503T210000Z
DTSTART:20260503T210000Z
DTEND:20260503T223000Z
SUMMARY:Workshop: Watercolor Painting with Vica Lew
DESCRIPTION:<p>Explore the basics of watercolor painting through the joy of cute food illustrations. Using snacks, fruit, and other yummy treats as our subject, students will learn how watercolor behaves and how to use it with confidence. Perfect for beginner and intermediate learners. For ages 10 and older.</p><p>Space limited. Reservations required: (415) 355-5707, email <a href="mailto:nvamgr@sfpl.org">nvamgr@sfpl.org</a> or sign-up at the reference desk.&nbsp;</p><p><strong>Vica Lew </strong>is a Filipina illustrator and designer based in San Francisco who loves creating things for kids and kids at heart. She has experience working with clients like Hasbro and Nick Jr., and has a diverse portfolio spanning activity books, toy design, surface pattern design, and 2D illustrations for children's animation and games.</p><p>Connect: <a href="https://www.yayitsvica.com/">Vica Lew - Website</a></p>
LOCATION:Noe Valley/Sally Brunn - Noe Valley Meeting Room
CLASS:PUBLIC
TRANSP:TRANSPARENT
END:VEVENT
BEGIN:VALARM
TRIGGER:-PT1440M
ACTION:DISPLAY
DESCRIPTION:Event Reminder - Workshop: Watercolor Painting with Vica Lew
END:VALARM
END:VCALENDAR