BEGIN:VCALENDAR
VERSION:2.0
PRODID:SFPL Web Calendar
BEGIN:VEVENT
UID:152954@sfpl.org
DTSTAMP:20260812T181500Z
DTSTART:20260812T181500Z
DTEND:20260812T191500Z
SUMMARY:Presentation: San Francisco Beekeeper's Association
DESCRIPTION:<p>Learn about beekeeping in an urban location, along with bee biology, how the bees communicate and their importance for pollination. Explore a live observation hive and enjoy a honey sampling.&nbsp;</p><p>&nbsp;</p><p>Connect: <a href="https://www.sfbee.org/">San Francisco Beekeeper's Association - Website</a>&nbsp;</p>
LOCATION:Excelsior - Excelsior Meeting Room
CLASS:PUBLIC
TRANSP:TRANSPARENT
END:VEVENT
BEGIN:VALARM
TRIGGER:-PT1440M
ACTION:DISPLAY
DESCRIPTION:Event Reminder - Presentation: San Francisco Beekeeper's Association
END:VALARM
END:VCALENDAR