BEGIN:VCALENDAR
VERSION:2.0
PRODID:SFPL Web Calendar
BEGIN:VEVENT
UID:152970@sfpl.org
DTSTAMP:20260506T190000Z
DTSTART:20260506T190000Z
DTEND:20260506T200000Z
SUMMARY:Presentation: Commercial Leasing Essentials
DESCRIPTION:<p>Learn the key steps, strategies and terms involved in negotiating a commercial lease. This workshop will help you understand your rights,&nbsp;identify&nbsp;potential pitfalls and confidently secure a lease that supports your business goals.&nbsp;Co-hosted by the Office of Small Business and the San Francisco Public Library, with Commercial Leasing Specialists Iris Lee and Divine&nbsp;Katoure.</p>
LOCATION:Virtual Library
CLASS:PUBLIC
TRANSP:TRANSPARENT
END:VEVENT
BEGIN:VALARM
TRIGGER:-PT1440M
ACTION:DISPLAY
DESCRIPTION:Event Reminder - Presentation: Commercial Leasing Essentials
END:VALARM
END:VCALENDAR