BEGIN:VCALENDAR
VERSION:2.0
PRODID:SFPL Web Calendar
BEGIN:VEVENT
UID:153018@sfpl.org
DTSTAMP:20260516T170000Z
DTSTART:20260516T170000Z
DTEND:20260516T210000Z
SUMMARY:Celebration: Open House
DESCRIPTION:<p><strong>Celebrate Harvey Milk at Our Annual Open House</strong></p><p>Bring your family, friends and neighbors for a day of fun, creativity, and community. Enjoy festivities for all ages, including:</p><ul><li><strong>Special Saturday Storytime - </strong>10AM</li><li><strong>Music, Storytelling and Clowning with </strong><a href="https://www.cassielevyfacepaint.com/rainbowrox.html"><strong>Rainbow Rox</strong></a> - 11:00 AM</li><li><strong>Choral Performance by</strong><a href="https://sfcmc.org/course/new-voices-bay-area-tigq-chorus/"><strong> New Voices Bay Area TIGQ Chorus</strong></a> - 12:30 PM</li></ul><p><strong>Creative Activities</strong>:</p><ul><li>Face painting</li><li>Candy necklaces</li><li>Rainbow scratch art</li></ul><p><strong>Plus: </strong>Select a free book from our giveaway and join us for refreshments, including cupcakes to celebrate Harvey Milk’s birthday.</p><p>&nbsp;</p>
LOCATION:Eureka Valley/Harvey Milk Memorial - Eureka Valley General Floor Area
CLASS:PUBLIC
TRANSP:TRANSPARENT
END:VEVENT
BEGIN:VALARM
TRIGGER:-PT1440M
ACTION:DISPLAY
DESCRIPTION:Event Reminder - Celebration: Open House
END:VALARM
END:VCALENDAR