BEGIN:VCALENDAR
VERSION:2.0
PRODID:SFPL Web Calendar
BEGIN:VEVENT
UID:153029@sfpl.org
DTSTAMP:20260516T210000Z
DTSTART:20260516T210000Z
DTEND:20260516T220000Z
SUMMARY:Activity: Carnaval Mask and Headpiece Making
DESCRIPTION:<p>Make and decorate your own mask or headpiece. Supplies limited.</p>
LOCATION:Main Library - Martin Paley Conference Room - 3rd Fl
CLASS:PUBLIC
TRANSP:TRANSPARENT
END:VEVENT
BEGIN:VALARM
TRIGGER:-PT1440M
ACTION:DISPLAY
DESCRIPTION:Event Reminder - Activity: Carnaval Mask and Headpiece Making
END:VALARM
END:VCALENDAR