BEGIN:VCALENDAR
VERSION:2.0
PRODID:SFPL Web Calendar
BEGIN:VEVENT
UID:153052@sfpl.org
DTSTAMP:20260531T210000Z
DTSTART:20260531T210000Z
DTEND:20260531T220000Z
SUMMARY:Workshop: Slingshot Rockets with First Inventors
DESCRIPTION:<p>Learn about aerospace engineering and how rockets work. Create a slingshot rocket and participate in an aim competition with a prize at the end! Make learning fun with First Inventors, teen presenters of STEM events for youth. For ages 7 and older.</p>
LOCATION:Merced - Merced General Floor Area
CLASS:PUBLIC
TRANSP:TRANSPARENT
END:VEVENT
BEGIN:VALARM
TRIGGER:-PT1440M
ACTION:DISPLAY
DESCRIPTION:Event Reminder - Workshop: Slingshot Rockets with First Inventors
END:VALARM
END:VCALENDAR