BEGIN:VCALENDAR
VERSION:2.0
PRODID:SFPL Web Calendar
BEGIN:VEVENT
UID:153771@sfpl.org
DTSTAMP:20260512T171500Z
DTSTART:20260512T171500Z
DTEND:20260512T184500Z
SUMMARY:Activity: Knit and Craft Circle
DESCRIPTION:<p>For all levels of knitters and crafters. Knit needles and yarn are provided for class use.&nbsp;You may also bring your own supplies if you have a special project in mind.&nbsp;</p><p><br>&nbsp;</p>
LOCATION:Merced - Merced General Floor Area
CLASS:PUBLIC
TRANSP:TRANSPARENT
END:VEVENT
BEGIN:VALARM
TRIGGER:-PT1440M
ACTION:DISPLAY
DESCRIPTION:Event Reminder - Activity: Knit and Craft Circle
END:VALARM
END:VCALENDAR