BEGIN:VCALENDAR
VERSION:2.0
PRODID:SFPL Web Calendar
BEGIN:VEVENT
UID:153931@sfpl.org
DTSTAMP:20260703T203000Z
DTSTART:20260703T203000Z
DTEND:20260703T223000Z
SUMMARY:Activity: Summer Watercolor Club
DESCRIPTION:<p>Join our summer watercolor group for teens. Paper, paints and brushes provided. Light instruction and books for inspiration will help kick off each session.</p><p>Watercolor Club meets on the following Fridays: 7/3, 7/17, 7/31 and 8/7.</p><p>For ages 13–18.</p>
LOCATION:Glen Park - Glen Park Meeting Room
CLASS:PUBLIC
TRANSP:TRANSPARENT
END:VEVENT
BEGIN:VALARM
TRIGGER:-PT1440M
ACTION:DISPLAY
DESCRIPTION:Event Reminder - Activity: Summer Watercolor Club
END:VALARM
END:VCALENDAR