BEGIN:VCALENDAR
VERSION:2.0
PRODID:SFPL Web Calendar
BEGIN:VEVENT
UID:154054@sfpl.org
DTSTAMP:20260516T180000Z
DTSTART:20260516T180000Z
DTEND:20260516T193000Z
SUMMARY:講座：生成式人工 智能簡介（粵語）/ Workshop: Introduction to Generative AI in Cantonese
DESCRIPTION:<p>本工作坊將向參與者介紹生成式人工智慧工具，重點聚焦於 ChatGPT。内容涵蓋關鍵概念、實際應用以及倫理考量。參與者將通過有指導的實踐活動，親身體驗生成式人工智能。</p><p>This workshop introduces participants to generative AI tools, focusing on ChatGPT. It covers key concepts, practical uses and ethical considerations. Participants will experiment with generative AI through guided practice activities. &nbsp;Program presented in Cantonese.</p><p>&nbsp;</p><p>This event is part of <a href="https://sfpl.org/locations/main-library/bridge-main-5th-floor/welcome-tech-week">SF Tech Week</a>.</p><p>Connect: digitalLIFT <a href="https://digitallift.org/">website</a>&nbsp;| <a href="https://www.facebook.com/digitalLIFT.US/">Facebook</a>&nbsp;| <a href="https://x.com/DigitalLift_org">X</a></p>
LOCATION:Virtual Library
CLASS:PUBLIC
TRANSP:TRANSPARENT
END:VEVENT
BEGIN:VALARM
TRIGGER:-PT1440M
ACTION:DISPLAY
DESCRIPTION:Event Reminder - 講座：生成式人工 智能簡介（粵語）/ Workshop: Introduction to Generative AI in Cantonese
END:VALARM
END:VCALENDAR