BEGIN:VCALENDAR
VERSION:2.0
PRODID:SFPL Web Calendar
BEGIN:VEVENT
UID:154091@sfpl.org
DTSTAMP:20260712T210000Z
DTSTART:20260712T210000Z
DTEND:20260712T230000Z
SUMMARY:Film: Finding Nemo
DESCRIPTION:<p>A young clownfish named Nemo is unexpectedly taken from the Great Barrier Reef to a dentist's office aquarium. It's up to his father Marlin and his friend Dory to bring Nemo home, meeting vegetarian sharks, surfer dude turtles, hypnotic jellyfish, hungry seagulls and more along the way.</p><p>G, 100 mins., 2003. Closed captions (CC) in English.</p>
LOCATION:Glen Park - Glen Park Meeting Room
CLASS:PUBLIC
TRANSP:TRANSPARENT
END:VEVENT
BEGIN:VALARM
TRIGGER:-PT1440M
ACTION:DISPLAY
DESCRIPTION:Event Reminder - Film: Finding Nemo
END:VALARM
END:VCALENDAR