BEGIN:VCALENDAR
VERSION:2.0
PRODID:SFPL Web Calendar
BEGIN:VEVENT
UID:154092@sfpl.org
DTSTAMP:20260809T210000Z
DTSTART:20260809T210000Z
DTEND:20260809T230000Z
SUMMARY:Film: Mulan
DESCRIPTION:<p>Clever Mulan proves her worth outside of her tradition-bound society when, disguised as male soldier "Ping," she bravely takes her father's place in China's Imperial Army.</p><p>G, 96 mins., 1998. Closed captions (CC) in English.</p>
LOCATION:Glen Park - Glen Park Meeting Room
CLASS:PUBLIC
TRANSP:TRANSPARENT
END:VEVENT
BEGIN:VALARM
TRIGGER:-PT1440M
ACTION:DISPLAY
DESCRIPTION:Event Reminder - Film: Mulan
END:VALARM
END:VCALENDAR