BEGIN:VCALENDAR
VERSION:2.0
PRODID:SFPL Web Calendar
BEGIN:VEVENT
UID:154096@sfpl.org
DTSTAMP:20260615T220000Z
DTSTART:20260615T220000Z
DTEND:20260615T230000Z
SUMMARY:Social: Grilled Cheese and Conversation
DESCRIPTION:<p>Tell us what you’d like to see at your library, while we toast and taste grilled cheese sandwiches with a variety of breads, cheeses and seasoning. &nbsp;For ages 11–16.</p>
LOCATION:Glen Park - Glen Park Meeting Room
CLASS:PUBLIC
TRANSP:TRANSPARENT
END:VEVENT
BEGIN:VALARM
TRIGGER:-PT1440M
ACTION:DISPLAY
DESCRIPTION:Event Reminder - Social: Grilled Cheese and Conversation
END:VALARM
END:VCALENDAR