BEGIN:VCALENDAR
VERSION:2.0
PRODID:SFPL Web Calendar
BEGIN:VEVENT
UID:154174@sfpl.org
DTSTAMP:20260603T220000Z
DTSTART:20260603T220000Z
DTEND:20260603T230000Z
SUMMARY:Activity: DIY Candy Lei
DESCRIPTION:<p>Make a sweet gift to give to someone that is perfect for graduation. For&nbsp;ages 8–18.</p>
LOCATION:Sunset - Sunset Program Room
CLASS:PUBLIC
TRANSP:TRANSPARENT
END:VEVENT
BEGIN:VALARM
TRIGGER:-PT1440M
ACTION:DISPLAY
DESCRIPTION:Event Reminder - Activity: DIY Candy Lei
END:VALARM
END:VCALENDAR