BEGIN:VCALENDAR
VERSION:2.0
PRODID:SFPL Web Calendar
BEGIN:VEVENT
UID:154186@sfpl.org
DTSTAMP:20260522T210000Z
DTSTART:20260522T210000Z
DTEND:20260522T233000Z
SUMMARY:Celebration: Nature Discovery Day
DESCRIPTION:<p>Celebrate the outdoors. Explore hands-on activities, for all ages:</p><ul><li>Blow bubbles</li><li>Create colorful chalk art</li><li>Experiment with wildlife-inspired printmaking</li><li>Play and build during an open-ended play session using natural loose parts to spark imagination and invite endless creativity</li><li>Meet a <a href="https://www.parksconservancy.org/programs/roving-ranger">Roving Ranger</a>, discover local ecosystems, and learn simple ways to care for the environment</li><li>Connect with community organizations and discover how small actions can make a big impact.</li></ul><p>&nbsp;</p><p>&nbsp;</p><p><br>&nbsp;</p>
LOCATION:North Beach - North Beach Library Community Room
CLASS:PUBLIC
TRANSP:TRANSPARENT
END:VEVENT
BEGIN:VALARM
TRIGGER:-PT1440M
ACTION:DISPLAY
DESCRIPTION:Event Reminder - Celebration: Nature Discovery Day
END:VALARM
END:VCALENDAR