BEGIN:VCALENDAR
VERSION:2.0
PRODID:SFPL Web Calendar
BEGIN:VEVENT
UID:154200@sfpl.org
DTSTAMP:20260606T220000Z
DTSTART:20260606T220000Z
DTEND:20260606T230000Z
SUMMARY:Workshop: Pepper's Ghost
DESCRIPTION:<p>Learn how a "Pepper's Ghost" illusion works and make your own with a boba tea lid and a cellphone. A Pepper's Ghost is an illusion created with reflections, similar to the dancing ghosts you see on Disneyland's Haunted Mansion ride. Bring your cellphone for the full effect.</p><p>For ages 10 and older.</p>
LOCATION:Glen Park - Glen Park Meeting Room
CLASS:PUBLIC
TRANSP:TRANSPARENT
END:VEVENT
BEGIN:VALARM
TRIGGER:-PT1440M
ACTION:DISPLAY
DESCRIPTION:Event Reminder - Workshop: Pepper's Ghost
END:VALARM
END:VCALENDAR